Package: msPurityData Version: 1.39.0 Command: /home/biocbuild/bbs-3.23-bioc/R/bin/R CMD INSTALL msPurityData StartedAt: 2025-11-06 10:55:19 -0500 (Thu, 06 Nov 2025) EndedAt: 2025-11-06 10:55:22 -0500 (Thu, 06 Nov 2025) EllapsedTime: 3.3 seconds RetCode: 0 Status: OK