Package: minfiDataEPIC Version: 1.35.0 Command: /home/biocbuild/bbs-3.22-bioc/R/bin/R CMD INSTALL minfiDataEPIC StartedAt: 2025-07-17 11:01:41 -0400 (Thu, 17 Jul 2025) EndedAt: 2025-07-17 11:02:27 -0400 (Thu, 17 Jul 2025) EllapsedTime: 46.6 seconds RetCode: 0 Status: OK