Package: minfiDataEPIC Version: 1.35.0 Command: /home/biocbuild/bbs-3.22-bioc/R/bin/R CMD build --keep-empty-dirs --no-resave-data minfiDataEPIC StartedAt: 2025-07-17 11:30:05 -0400 (Thu, 17 Jul 2025) EndedAt: 2025-07-17 11:30:17 -0400 (Thu, 17 Jul 2025) EllapsedTime: 11.4 seconds RetCode: 0 Status: OK PackageFile: minfiDataEPIC_1.35.0.tar.gz PackageFileSize: 69.26 MiB