Package: minfiData Version: 0.57.0 Command: /home/biocbuild/bbs-3.23-bioc/R/bin/R CMD INSTALL minfiData StartedAt: 2025-11-06 11:01:29 -0500 (Thu, 06 Nov 2025) EndedAt: 2025-11-06 11:02:09 -0500 (Thu, 06 Nov 2025) EllapsedTime: 40.6 seconds RetCode: 0 Status: OK