Package: microRNAome Version: 1.33.0 Command: /home/biocbuild/bbs-3.23-bioc/R/bin/R CMD INSTALL microRNAome StartedAt: 2025-11-18 10:59:41 -0500 (Tue, 18 Nov 2025) EndedAt: 2025-11-18 10:59:54 -0500 (Tue, 18 Nov 2025) EllapsedTime: 13.4 seconds RetCode: 0 Status: OK