Package: miRNATarget Version: 1.47.0 Command: /home/biocbuild/bbs-3.22-bioc/R/bin/R CMD build --keep-empty-dirs --no-resave-data miRNATarget StartedAt: 2025-09-30 11:30:24 -0400 (Tue, 30 Sep 2025) EndedAt: 2025-09-30 11:30:36 -0400 (Tue, 30 Sep 2025) EllapsedTime: 12.0 seconds RetCode: 0 Status: OK PackageFile: miRNATarget_1.47.0.tar.gz PackageFileSize: 51.86 MiB