Package: mCSEAdata Version: 1.31.0 Command: /home/biocbuild/bbs-3.23-bioc/R/bin/R CMD build --keep-empty-dirs --no-resave-data mCSEAdata StartedAt: 2025-11-06 11:28:11 -0500 (Thu, 06 Nov 2025) EndedAt: 2025-11-06 11:30:04 -0500 (Thu, 06 Nov 2025) EllapsedTime: 113.3 seconds RetCode: 0 Status: OK PackageFile: mCSEAdata_1.31.0.tar.gz PackageFileSize: 25.04 MiB