Package: leukemiasEset Version: 1.45.0 Command: /home/biocbuild/bbs-3.22-bioc/R/bin/R CMD INSTALL leukemiasEset StartedAt: 2025-10-16 10:56:15 -0400 (Thu, 16 Oct 2025) EndedAt: 2025-10-16 10:56:19 -0400 (Thu, 16 Oct 2025) EllapsedTime: 3.6 seconds RetCode: 0 Status: OK