Package: kidpack Version: 1.53.0 Command: /home/biocbuild/bbs-3.23-bioc/R/bin/R CMD INSTALL kidpack StartedAt: 2025-11-13 10:56:12 -0500 (Thu, 13 Nov 2025) EndedAt: 2025-11-13 10:56:18 -0500 (Thu, 13 Nov 2025) EllapsedTime: 5.8 seconds RetCode: 0 Status: OK