Package: imcdatasets Version: 1.17.0 Command: /home/biocbuild/bbs-3.22-bioc/R/bin/R CMD INSTALL imcdatasets StartedAt: 2025-07-17 10:59:25 -0400 (Thu, 17 Jul 2025) EndedAt: 2025-07-17 11:00:15 -0400 (Thu, 17 Jul 2025) EllapsedTime: 50.7 seconds RetCode: 0 Status: OK