Package: imcdatasets Version: 1.19.0 Command: /home/biocbuild/bbs-3.23-bioc/R/bin/R CMD check --install=check:imcdatasets.install-out.txt --library=/home/biocbuild/bbs-3.23-bioc/R/site-library --timings imcdatasets_1.19.0.tar.gz StartedAt: 2025-11-18 12:36:04 -0500 (Tue, 18 Nov 2025) EndedAt: 2025-11-18 12:52:10 -0500 (Tue, 18 Nov 2025) EllapsedTime: 965.9 seconds RetCode: 0 Status: OK CheckDir: imcdatasets.Rcheck Warnings: 0