Package: iModMixData Version: 0.99.6 Command: /home/biocbuild/bbs-3.22-bioc/R/bin/R CMD check --install=check:iModMixData.install-out.txt --library=/home/biocbuild/bbs-3.22-bioc/R/site-library --timings iModMixData_0.99.6.tar.gz StartedAt: 2025-10-07 12:33:32 -0400 (Tue, 07 Oct 2025) EndedAt: 2025-10-07 12:35:19 -0400 (Tue, 07 Oct 2025) EllapsedTime: 106.2 seconds RetCode: 0 Status: OK CheckDir: iModMixData.Rcheck Warnings: 0