Package: humanStemCell Version: 0.51.0 Command: /home/biocbuild/bbs-3.23-bioc/R/bin/R CMD INSTALL humanStemCell StartedAt: 2025-11-27 10:57:18 -0500 (Thu, 27 Nov 2025) EndedAt: 2025-11-27 10:57:26 -0500 (Thu, 27 Nov 2025) EllapsedTime: 8.4 seconds RetCode: 0 Status: OK