Package: gpaExample Version: 1.21.0 Command: /home/biocbuild/bbs-3.22-bioc/R/bin/R CMD INSTALL gpaExample StartedAt: 2025-07-17 10:55:51 -0400 (Thu, 17 Jul 2025) EndedAt: 2025-07-17 10:55:52 -0400 (Thu, 17 Jul 2025) EllapsedTime: 1.1 seconds RetCode: 0 Status: OK