Package: geneLenDataBase Version: 1.45.0 Command: /home/biocbuild/bbs-3.22-bioc/R/bin/R CMD INSTALL geneLenDataBase StartedAt: 2025-07-17 11:01:05 -0400 (Thu, 17 Jul 2025) EndedAt: 2025-07-17 11:02:23 -0400 (Thu, 17 Jul 2025) EllapsedTime: 77.5 seconds RetCode: 0 Status: OK