Package: fourDNData Version: 1.11.0 Maintainer: Jacques Serizay MaintainerEmail: jacquesserizay at gmail.com git_url: https://git.bioconductor.org/packages/fourDNData git_branch: devel git_last_commit: 4072966 git_last_commit_date: 2025-10-29 10:05:25 -0400 (Wed, 29 Oct 2025)