Package: fission Version: 1.31.0 Command: /home/biocbuild/bbs-3.23-bioc/R/bin/R CMD INSTALL fission StartedAt: 2025-11-18 10:58:53 -0500 (Tue, 18 Nov 2025) EndedAt: 2025-11-18 10:59:09 -0500 (Tue, 18 Nov 2025) EllapsedTime: 15.3 seconds RetCode: 0 Status: OK