Package: ffpeExampleData Version: 1.47.0 Command: /home/biocbuild/bbs-3.22-bioc/R/bin/R CMD INSTALL ffpeExampleData StartedAt: 2025-07-17 11:02:52 -0400 (Thu, 17 Jul 2025) EndedAt: 2025-07-17 11:03:21 -0400 (Thu, 17 Jul 2025) EllapsedTime: 28.7 seconds RetCode: 0 Status: OK