Package: fabiaData Version: 1.49.0 Command: /home/biocbuild/bbs-3.23-bioc/R/bin/R CMD INSTALL fabiaData StartedAt: 2025-11-20 10:56:05 -0500 (Thu, 20 Nov 2025) EndedAt: 2025-11-20 10:56:09 -0500 (Thu, 20 Nov 2025) EllapsedTime: 3.8 seconds RetCode: 0 Status: OK