Package: eoPredData Version: 1.3.0 Command: /home/biocbuild/bbs-3.22-bioc/R/bin/R CMD build --keep-empty-dirs --no-resave-data eoPredData StartedAt: 2025-07-24 11:16:48 -0400 (Thu, 24 Jul 2025) EndedAt: 2025-07-24 11:17:06 -0400 (Thu, 24 Jul 2025) EllapsedTime: 17.4 seconds RetCode: 0 Status: OK PackageFile: eoPredData_1.3.0.tar.gz PackageFileSize: 292.5 KiB