Package: eoPredData Version: 1.5.0 Command: /home/biocbuild/bbs-3.23-bioc/R/bin/R CMD INSTALL eoPredData StartedAt: 2025-11-06 10:56:56 -0500 (Thu, 06 Nov 2025) EndedAt: 2025-11-06 10:57:08 -0500 (Thu, 06 Nov 2025) EllapsedTime: 12.8 seconds RetCode: 0 Status: OK