Package: easierData Version: 1.15.0 Command: /home/biocbuild/bbs-3.22-bioc/R/bin/R CMD INSTALL easierData StartedAt: 2025-07-17 11:03:38 -0400 (Thu, 17 Jul 2025) EndedAt: 2025-07-17 11:04:04 -0400 (Thu, 17 Jul 2025) EllapsedTime: 25.2 seconds RetCode: 0 Status: OK