Package: dressCheck Version: 0.47.0 Command: /home/biocbuild/bbs-3.22-bioc/R/bin/R CMD INSTALL dressCheck StartedAt: 2025-10-16 10:56:14 -0400 (Thu, 16 Oct 2025) EndedAt: 2025-10-16 10:56:22 -0400 (Thu, 16 Oct 2025) EllapsedTime: 8.1 seconds RetCode: 0 Status: OK