Package: dorothea Version: 1.23.0 Command: /home/biocbuild/bbs-3.23-bioc/R/bin/R CMD INSTALL dorothea StartedAt: 2025-11-13 10:56:35 -0500 (Thu, 13 Nov 2025) EndedAt: 2025-11-13 10:57:18 -0500 (Thu, 13 Nov 2025) EllapsedTime: 43.2 seconds RetCode: 0 Status: OK