Package: dorothea Version: 1.23.0 Command: /home/biocbuild/bbs-3.23-bioc/R/bin/R CMD build --keep-empty-dirs --no-resave-data dorothea StartedAt: 2025-11-13 11:15:27 -0500 (Thu, 13 Nov 2025) EndedAt: 2025-11-13 11:19:46 -0500 (Thu, 13 Nov 2025) EllapsedTime: 258.5 seconds RetCode: 0 Status: OK PackageFile: dorothea_1.23.0.tar.gz PackageFileSize: 34.04 MiB