Package: dominatRData Version: 0.99.1 Command: /home/biocbuild/bbs-3.23-bioc/R/bin/R CMD build --keep-empty-dirs --no-resave-data dominatRData StartedAt: 2025-11-13 11:15:19 -0500 (Thu, 13 Nov 2025) EndedAt: 2025-11-13 11:15:27 -0500 (Thu, 13 Nov 2025) EllapsedTime: 7.9 seconds RetCode: 0 Status: OK PackageFile: dominatRData_0.99.1.tar.gz PackageFileSize: 728.1 KiB