Package: diggitdata Version: 1.41.0 Command: /home/biocbuild/bbs-3.22-bioc/R/bin/R CMD INSTALL diggitdata StartedAt: 2025-07-24 10:57:43 -0400 (Thu, 24 Jul 2025) EndedAt: 2025-07-24 10:57:50 -0400 (Thu, 24 Jul 2025) EllapsedTime: 7.3 seconds RetCode: 0 Status: OK