Package: diffloopdata Version: 1.37.0 Command: /home/biocbuild/bbs-3.22-bioc/R/bin/R CMD INSTALL diffloopdata StartedAt: 2025-07-17 10:55:30 -0400 (Thu, 17 Jul 2025) EndedAt: 2025-07-17 10:55:32 -0400 (Thu, 17 Jul 2025) EllapsedTime: 1.7 seconds RetCode: 0 Status: OK