Package: depmap Version: 1.25.0 Command: /home/biocbuild/bbs-3.23-bioc/R/bin/R CMD INSTALL depmap StartedAt: 2025-11-06 10:57:17 -0500 (Thu, 06 Nov 2025) EndedAt: 2025-11-06 10:57:31 -0500 (Thu, 06 Nov 2025) EllapsedTime: 14.5 seconds RetCode: 0 Status: OK