Package: davidTiling Version: 1.49.0 Command: /home/biocbuild/bbs-3.22-bioc/R/bin/R CMD build --keep-empty-dirs --no-resave-data davidTiling StartedAt: 2025-07-17 11:14:03 -0400 (Thu, 17 Jul 2025) EndedAt: 2025-07-17 11:15:07 -0400 (Thu, 17 Jul 2025) EllapsedTime: 64.0 seconds RetCode: 0 Status: OK PackageFile: davidTiling_1.49.0.tar.gz PackageFileSize: 537.7 MiB