Package: curatedTBData Version: 2.7.0 Command: /home/biocbuild/bbs-3.23-bioc/R/bin/R CMD INSTALL curatedTBData StartedAt: 2025-11-13 10:59:21 -0500 (Thu, 13 Nov 2025) EndedAt: 2025-11-13 10:59:48 -0500 (Thu, 13 Nov 2025) EllapsedTime: 27.6 seconds RetCode: 0 Status: OK