Package: curatedTBData Version: 2.7.0 Command: /home/biocbuild/bbs-3.23-bioc/R/bin/R CMD build --keep-empty-dirs --no-resave-data curatedTBData StartedAt: 2025-11-13 11:12:44 -0500 (Thu, 13 Nov 2025) EndedAt: 2025-11-13 11:15:27 -0500 (Thu, 13 Nov 2025) EllapsedTime: 163.0 seconds RetCode: 0 Status: OK PackageFile: curatedTBData_2.7.0.tar.gz PackageFileSize: 361.4 KiB