Package: curatedPCaData Version: 1.5.0 Command: /home/biocbuild/bbs-3.22-bioc/R/bin/R CMD INSTALL curatedPCaData StartedAt: 2025-07-17 10:59:22 -0400 (Thu, 17 Jul 2025) EndedAt: 2025-07-17 11:00:05 -0400 (Thu, 17 Jul 2025) EllapsedTime: 43.5 seconds RetCode: 0 Status: OK