Package: curatedPCaData Version: 1.5.0 Command: /home/biocbuild/bbs-3.22-bioc/R/bin/R CMD build --keep-empty-dirs --no-resave-data curatedPCaData StartedAt: 2025-07-17 11:12:21 -0400 (Thu, 17 Jul 2025) EndedAt: 2025-07-17 11:18:59 -0400 (Thu, 17 Jul 2025) EllapsedTime: 398.5 seconds RetCode: 0 Status: OK PackageFile: curatedPCaData_1.5.0.tar.gz PackageFileSize: 2.937 MiB