Package: curatedAdipoRNA Version: 1.27.0 Command: /home/biocbuild/bbs-3.23-bioc/R/bin/R CMD INSTALL curatedAdipoRNA StartedAt: 2025-11-20 11:01:57 -0500 (Thu, 20 Nov 2025) EndedAt: 2025-11-20 11:02:19 -0500 (Thu, 20 Nov 2025) EllapsedTime: 21.5 seconds RetCode: 0 Status: OK