Package: curatedAdipoChIP Version: 1.27.0 Command: /home/biocbuild/bbs-3.23-bioc/R/bin/R CMD INSTALL curatedAdipoChIP StartedAt: 2025-11-06 11:00:33 -0500 (Thu, 06 Nov 2025) EndedAt: 2025-11-06 11:00:59 -0500 (Thu, 06 Nov 2025) EllapsedTime: 25.9 seconds RetCode: 0 Status: OK