Package: clustifyrdatahub Version: 1.21.0 Command: /home/biocbuild/bbs-3.23-bioc/R/bin/R CMD check --install=check:clustifyrdatahub.install-out.txt --library=/home/biocbuild/bbs-3.23-bioc/R/site-library --timings clustifyrdatahub_1.21.0.tar.gz StartedAt: 2025-11-06 12:06:55 -0500 (Thu, 06 Nov 2025) EndedAt: 2025-11-06 12:08:57 -0500 (Thu, 06 Nov 2025) EllapsedTime: 122.1 seconds RetCode: 0 Status: OK CheckDir: clustifyrdatahub.Rcheck Warnings: 0