Package: chipseqDBData Version: 1.25.0 Command: /home/biocbuild/bbs-3.22-bioc/R/bin/R CMD build --keep-empty-dirs --no-resave-data chipseqDBData StartedAt: 2025-07-17 11:09:27 -0400 (Thu, 17 Jul 2025) EndedAt: 2025-07-17 11:10:40 -0400 (Thu, 17 Jul 2025) EllapsedTime: 72.6 seconds RetCode: 0 Status: OK PackageFile: chipseqDBData_1.25.0.tar.gz PackageFileSize: 300.8 KiB