Package: ccdata Version: 1.37.0 Maintainer: Alex Pickering MaintainerEmail: alexvpickering at gmail.com git_url: https://git.bioconductor.org/packages/ccdata git_branch: devel git_last_commit: 0d2b81b git_last_commit_date: 2025-10-29 09:58:47 -0400 (Wed, 29 Oct 2025)