Package: brgedata Version: 1.31.0 Command: /home/biocbuild/bbs-3.22-bioc/R/bin/R CMD INSTALL brgedata StartedAt: 2025-09-30 10:58:48 -0400 (Tue, 30 Sep 2025) EndedAt: 2025-09-30 10:59:56 -0400 (Tue, 30 Sep 2025) EllapsedTime: 68.0 seconds RetCode: 0 Status: OK