Package: brgedata Version: 1.31.0 Command: /home/biocbuild/bbs-3.22-bioc/R/bin/R CMD build --keep-empty-dirs --no-resave-data brgedata StartedAt: 2025-10-02 11:07:27 -0400 (Thu, 02 Oct 2025) EndedAt: 2025-10-02 11:11:26 -0400 (Thu, 02 Oct 2025) EllapsedTime: 239.7 seconds RetCode: 0 Status: OK PackageFile: brgedata_1.31.0.tar.gz PackageFileSize: 297 MiB