Package: blimaTestingData Version: 1.29.0 Command: /home/biocbuild/bbs-3.22-bioc/R/bin/R CMD check --install=check:blimaTestingData.install-out.txt --library=/home/biocbuild/bbs-3.22-bioc/R/site-library --timings blimaTestingData_1.29.0.tar.gz StartedAt: 2025-10-21 12:02:58 -0400 (Tue, 21 Oct 2025) EndedAt: 2025-10-21 12:04:23 -0400 (Tue, 21 Oct 2025) EllapsedTime: 85.1 seconds RetCode: 0 Status: OK CheckDir: blimaTestingData.Rcheck Warnings: 0