Package: bladderbatch Version: 1.47.0 Command: /home/biocbuild/bbs-3.22-bioc/R/bin/R CMD INSTALL bladderbatch StartedAt: 2025-07-17 10:56:08 -0400 (Thu, 17 Jul 2025) EndedAt: 2025-07-17 10:56:11 -0400 (Thu, 17 Jul 2025) EllapsedTime: 2.9 seconds RetCode: 0 Status: OK