Package: beadarrayExampleData Version: 1.47.0 Command: /home/biocbuild/bbs-3.22-bioc/R/bin/R CMD INSTALL beadarrayExampleData StartedAt: 2025-07-17 10:57:55 -0400 (Thu, 17 Jul 2025) EndedAt: 2025-07-17 10:58:06 -0400 (Thu, 17 Jul 2025) EllapsedTime: 10.6 seconds RetCode: 0 Status: OK