Package: beadarrayExampleData Version: 1.47.0 Command: /home/biocbuild/bbs-3.22-bioc/R/bin/R CMD check --install=check:beadarrayExampleData.install-out.txt --library=/home/biocbuild/bbs-3.22-bioc/R/site-library --timings beadarrayExampleData_1.47.0.tar.gz StartedAt: 2025-07-17 12:01:56 -0400 (Thu, 17 Jul 2025) EndedAt: 2025-07-17 12:03:38 -0400 (Thu, 17 Jul 2025) EllapsedTime: 101.9 seconds RetCode: 0 Status: OK CheckDir: beadarrayExampleData.Rcheck Warnings: 0