Package: VectraPolarisData Version: 1.13.0 Command: /home/biocbuild/bbs-3.22-bioc/R/bin/R CMD INSTALL VectraPolarisData StartedAt: 2025-07-17 11:00:13 -0400 (Thu, 17 Jul 2025) EndedAt: 2025-07-17 11:00:42 -0400 (Thu, 17 Jul 2025) EllapsedTime: 28.8 seconds RetCode: 0 Status: OK