Package: VectraPolarisData Version: 1.15.0 Command: /home/biocbuild/bbs-3.23-bioc/R/bin/R CMD check --install=check:VectraPolarisData.install-out.txt --library=/home/biocbuild/bbs-3.23-bioc/R/site-library --timings VectraPolarisData_1.15.0.tar.gz StartedAt: 2025-11-27 13:13:59 -0500 (Thu, 27 Nov 2025) EndedAt: 2025-11-27 13:18:39 -0500 (Thu, 27 Nov 2025) EllapsedTime: 280.0 seconds RetCode: 0 Status: OK CheckDir: VectraPolarisData.Rcheck Warnings: 0