Package: VariantToolsData Version: 1.33.0 Command: /home/biocbuild/bbs-3.22-bioc/R/bin/R CMD INSTALL VariantToolsData StartedAt: 2025-07-17 11:03:30 -0400 (Thu, 17 Jul 2025) EndedAt: 2025-07-17 11:04:05 -0400 (Thu, 17 Jul 2025) EllapsedTime: 35.5 seconds RetCode: 0 Status: OK