Package: VariantToolsData Version: 1.33.0 Command: /home/biocbuild/bbs-3.22-bioc/R/bin/R CMD build --keep-empty-dirs --no-resave-data VariantToolsData StartedAt: 2025-07-17 11:47:26 -0400 (Thu, 17 Jul 2025) EndedAt: 2025-07-17 11:48:23 -0400 (Thu, 17 Jul 2025) EllapsedTime: 57.3 seconds RetCode: 0 Status: OK PackageFile: VariantToolsData_1.33.0.tar.gz PackageFileSize: 200.7 MiB