Package: TransOmicsData Version: 1.7.0 Command: /home/biocbuild/bbs-3.23-bioc/R/bin/R CMD build --keep-empty-dirs --no-resave-data TransOmicsData StartedAt: 2025-11-06 11:46:55 -0500 (Thu, 06 Nov 2025) EndedAt: 2025-11-06 11:47:09 -0500 (Thu, 06 Nov 2025) EllapsedTime: 14.4 seconds RetCode: 0 Status: OK PackageFile: TransOmicsData_1.7.0.tar.gz PackageFileSize: 232.7 KiB